BEGIN:VCALENDAR
VERSION:2.0
PRODID:-//wp-events-plugin.com//7.2.3.1//EN
TZID:America/New_York
X-WR-TIMEZONE:America/New_York
BEGIN:VEVENT
UID:90@museum.westford.org
DTSTART;TZID=America/New_York:20200308T143000
DTEND;TZID=America/New_York:20200308T160000
DTSTAMP:20191124T011555Z
URL:https://museum.westford.org/events/photographs-of-quincy-w-day-westfor
 d-then-and-now/
SUMMARY:Photographs of Quincy W. Day\, Westford Then and Now
DESCRIPTION:Do you recognize this house? Many of you probably drive by it e
 very day. Join us at the Westford Historical Society for a fascinating sli
 de show of photographs of Quincy Day. His pictures were taken as early as 
 1899 and continued through 1920. This presentation will feature building f
 rom all over town that he photographed juxtaposed against a current view o
 f the same place. Many of the structures still exist\, many were moved or 
 altered in some way\, and others burned or were demolished. Come see how m
 any you can identify. The presentation will be led by Marilyn Day with ple
 nty of audience participation.\n\nSuggested Donations $5 per person/$10 pe
 r family
ATTACH;FMTTYPE=image/jpeg:https://museum.westford.org/wp-content/uploads/2
 019/11/QWDay.jpg
CATEGORIES:Event,Presentation
LOCATION:Westford Museum\, 2 Boston Road\, Westford\, MA\, 01886\, United S
 tates
GEO:42.5803845;-71.43787099999997
X-APPLE-STRUCTURED-LOCATION;VALUE=URI;X-ADDRESS=2 Boston Road\, Westford\, 
 MA\, 01886\, United States;X-APPLE-RADIUS=100;X-TITLE=Westford Museum:geo:
 42.5803845,-71.43787099999997
END:VEVENT
BEGIN:VTIMEZONE
TZID:America/New_York
X-LIC-LOCATION:America/New_York
BEGIN:DAYLIGHT
DTSTART:20200308T030000
TZOFFSETFROM:-0500
TZOFFSETTO:-0400
TZNAME:EDT
END:DAYLIGHT
END:VTIMEZONE
END:VCALENDAR